BEGIN:VCALENDAR
VERSION:2.0
PRODID:-//smsmustangs.com//eCatholic//EN
X-WR-TIMEZONE:LocalTZ
BEGIN:VTIMEZONE
TZID:LocalTZ
X-LIC-LOCATION:LocalTZ
BEGIN:DAYLIGHT
TZOFFSETFROM:-0600
TZOFFSETTO:-0500
TZNAME:LocalTZ
DTSTART:19700308T020000
RRULE:FREQ=YEARLY;BYMONTH=3;BYDAY=2SU
END:DAYLIGHT
BEGIN:STANDARD
TZOFFSETFROM:-0500
TZOFFSETTO:-0600
TZNAME:LocalTZ
DTSTART:19701101T020000
RRULE:FREQ=YEARLY;BYMONTH=11;BYDAY=1SU
END:STANDARD
END:VTIMEZONE
BEGIN:VEVENT
UID:2856274@smsmustangs.com
DTSTAMP:20260425T154127Z
DTSTART:20260508T080000
DTEND:20260508T090000
RRULE:FREQ=WEEKLY;UNTIL=20260516;BYDAY=FR
EXDATE:20250919T080000,20251010T080000,20251017T080000,20251031T080000,202
 51107T080000,20260206T080000,20260213T080000,20260220T080000,20260227T0800
 00,20260320T080000,20260327T080000,20260410T080000,20260424T080000,2026050
 1T080000,20260515T080000
SUMMARY:Mass
END:VEVENT
BEGIN:VEVENT
UID:3046522@smsmustangs.com
DTSTAMP:20260425T154127Z
DTSTART:20260425T183000
DTEND:20260425T210000
SUMMARY:JH Spring Dance (Western) - St Martin De Porres
END:VEVENT
BEGIN:VEVENT
UID:3073115@smsmustangs.com
DTSTAMP:20260425T154127Z
DTSTART;VALUE=DATE:20260427
DTEND;VALUE=DATE:20260428
SUMMARY:JH Powder Puff & Volleyball Night
END:VEVENT
BEGIN:VEVENT
UID:3056340@smsmustangs.com
DTSTAMP:20260425T154127Z
DTSTART:20260430T073000
DTEND:20260430T083000
SUMMARY:Donuts With Dad
END:VEVENT
BEGIN:VEVENT
UID:3074632@smsmustangs.com
DTSTAMP:20260425T154127Z
DTSTART:20260501T080000
DTEND:20260501T090000
SUMMARY:May Crowning Mass
DESCRIPTION:Students may bring fresh flowers to place at Mass
END:VEVENT
BEGIN:VEVENT
UID:3060954@smsmustangs.com
DTSTAMP:20260425T154127Z
DTSTART;VALUE=DATE:20260504
DTEND;VALUE=DATE:20260509
SUMMARY:Teacher Appreciation Week
END:VEVENT
BEGIN:VEVENT
UID:3060955@smsmustangs.com
DTSTAMP:20260425T154127Z
DTSTART:20260508T090000
DTEND:20260508T100000
SUMMARY:Field Day
END:VEVENT
BEGIN:VEVENT
UID:3060956@smsmustangs.com
DTSTAMP:20260425T154127Z
DTSTART:20260508T120000
DTEND:20260508T130000
SUMMARY:Early Release Day
END:VEVENT
BEGIN:VEVENT
UID:3074634@smsmustangs.com
DTSTAMP:20260425T154127Z
DTSTART:20260515T080000
DTEND:20260515T090000
SUMMARY:Blue Mass
DESCRIPTION:All First Responders are invited to attend Mass in honor of th
 eir service and enjoy a breakfast reception immediately following. 
END:VEVENT
BEGIN:VEVENT
UID:3074636@smsmustangs.com
DTSTAMP:20260425T154127Z
DTSTART:20260518T080000
DTEND:20260518T090000
SUMMARY:Kinder Graduation
END:VEVENT
BEGIN:VEVENT
UID:3074635@smsmustangs.com
DTSTAMP:20260425T154127Z
DTSTART;VALUE=DATE:20260520
DTEND;VALUE=DATE:20260521
SUMMARY:Last Day of School
END:VEVENT
BEGIN:VEVENT
UID:3074638@smsmustangs.com
DTSTAMP:20260425T154127Z
DTSTART:20260520T090000
DTEND:20260520T100000
SUMMARY:Awards Ceremony
END:VEVENT
BEGIN:VEVENT
UID:3074642@smsmustangs.com
DTSTAMP:20260425T154127Z
DTSTART:20260520T120000
DTEND:20260520T130000
SUMMARY:Early Release - No Lunch/Afterschool
END:VEVENT
BEGIN:VEVENT
UID:3074639@smsmustangs.com
DTSTAMP:20260425T154127Z
DTSTART:20260520T173000
DTEND:20260520T183000
SUMMARY:8th Grade Graduation
END:VEVENT
END:VCALENDAR
